BEGIN:VCALENDAR
VERSION:2.0
PRODID:-//hacksw/handcal//NONSGML v1.0//EN
BEGIN:VEVENT
SUMMARY:Carrieres 2 vs Vernouillet SM2
UID:dd39e153-bdfc-46df-9b40-30aabcc347de
DTSTART:20260527T180000Z
DTEND:20260527T210000Z
LOCATION:Localisation   
CATEGORIES:Sportif
STATUS:
URL;VALUE=URI:https://3vbc.sportsregions.fr/evenements/2026/05/27/carrieres-2-vs-vernouillet-sm2-2443650
END:VEVENT
END:VCALENDAR
