BEGIN:VCALENDAR
VERSION:2.0
PRODID:-//hacksw/handcal//NONSGML v1.0//EN
BEGIN:VEVENT
SUMMARY:Fete Du Club
UID:e341814d-d665-4b68-9b0d-4391cb38becd
DTSTART:20260613T103000Z
DTEND:20260613T180000Z
LOCATION:Complexe Sportif de l'Amandier 4, Rue du Pepin 78540 Vernouillet
CATEGORIES:Manifestation
STATUS:
URL;VALUE=URI:https://3vbc.sportsregions.fr/evenements/2026/06/13/fete-du-club-2437839
END:VEVENT
END:VCALENDAR
